BEGIN:VCALENDAR
VERSION:2.0
PRODID:-//Zespół Muzyki Folklorystycznej „Lubelacy” - ECPv6.15.20//NONSGML v1.0//EN
CALSCALE:GREGORIAN
METHOD:PUBLISH
X-WR-CALNAME:Zespół Muzyki Folklorystycznej „Lubelacy”
X-ORIGINAL-URL:https://lubelacy.pl
X-WR-CALDESC:Wydarzenia dla Zespół Muzyki Folklorystycznej „Lubelacy”
REFRESH-INTERVAL;VALUE=DURATION:PT1H
X-Robots-Tag:noindex
X-PUBLISHED-TTL:PT1H
BEGIN:VTIMEZONE
TZID:Europe/Warsaw
BEGIN:DAYLIGHT
TZOFFSETFROM:+0100
TZOFFSETTO:+0200
TZNAME:CEST
DTSTART:20240331T010000
END:DAYLIGHT
BEGIN:STANDARD
TZOFFSETFROM:+0200
TZOFFSETTO:+0100
TZNAME:CET
DTSTART:20241027T010000
END:STANDARD
BEGIN:DAYLIGHT
TZOFFSETFROM:+0100
TZOFFSETTO:+0200
TZNAME:CEST
DTSTART:20250330T010000
END:DAYLIGHT
BEGIN:STANDARD
TZOFFSETFROM:+0200
TZOFFSETTO:+0100
TZNAME:CET
DTSTART:20251026T010000
END:STANDARD
BEGIN:DAYLIGHT
TZOFFSETFROM:+0100
TZOFFSETTO:+0200
TZNAME:CEST
DTSTART:20260329T010000
END:DAYLIGHT
BEGIN:STANDARD
TZOFFSETFROM:+0200
TZOFFSETTO:+0100
TZNAME:CET
DTSTART:20261025T010000
END:STANDARD
END:VTIMEZONE
BEGIN:VEVENT
DTSTART;TZID=Europe/Warsaw:20251106T170000
DTEND;TZID=Europe/Warsaw:20251106T190000
DTSTAMP:20260421T224630
CREATED:20251102T142332Z
LAST-MODIFIED:20251103T190515Z
UID:129-1762448400-1762455600@lubelacy.pl
SUMMARY:Próba
DESCRIPTION:Próba grupy młodzieżowej. Dla obecnych oraz nowych chętnych osób.
URL:https://lubelacy.pl/wydarzenie/proba/
LOCATION:Siedziba Zespołu\, Bronowicka 19\, Lublin\, Lublin\, 20-301\, Poland
CATEGORIES:Próby
END:VEVENT
END:VCALENDAR