BEGIN:VCALENDAR
VERSION:2.0
PRODID:-//Zespół Muzyki Folklorystycznej „Lubelacy” - ECPv6.15.20//NONSGML v1.0//EN
CALSCALE:GREGORIAN
METHOD:PUBLISH
X-WR-CALNAME:Zespół Muzyki Folklorystycznej „Lubelacy”
X-ORIGINAL-URL:https://lubelacy.pl
X-WR-CALDESC:Wydarzenia dla Zespół Muzyki Folklorystycznej „Lubelacy”
REFRESH-INTERVAL;VALUE=DURATION:PT1H
X-Robots-Tag:noindex
X-PUBLISHED-TTL:PT1H
BEGIN:VTIMEZONE
TZID:Europe/Warsaw
BEGIN:DAYLIGHT
TZOFFSETFROM:+0100
TZOFFSETTO:+0200
TZNAME:CEST
DTSTART:20240331T010000
END:DAYLIGHT
BEGIN:STANDARD
TZOFFSETFROM:+0200
TZOFFSETTO:+0100
TZNAME:CET
DTSTART:20241027T010000
END:STANDARD
BEGIN:DAYLIGHT
TZOFFSETFROM:+0100
TZOFFSETTO:+0200
TZNAME:CEST
DTSTART:20250330T010000
END:DAYLIGHT
BEGIN:STANDARD
TZOFFSETFROM:+0200
TZOFFSETTO:+0100
TZNAME:CET
DTSTART:20251026T010000
END:STANDARD
BEGIN:DAYLIGHT
TZOFFSETFROM:+0100
TZOFFSETTO:+0200
TZNAME:CEST
DTSTART:20260329T010000
END:DAYLIGHT
BEGIN:STANDARD
TZOFFSETFROM:+0200
TZOFFSETTO:+0100
TZNAME:CET
DTSTART:20261025T010000
END:STANDARD
END:VTIMEZONE
BEGIN:VEVENT
DTSTART;TZID=Europe/Warsaw:20251218T160000
DTEND;TZID=Europe/Warsaw:20251218T180000
DTSTAMP:20260421T211816
CREATED:20251201T115709Z
LAST-MODIFIED:20251201T120444Z
UID:286-1766073600-1766080800@lubelacy.pl
SUMMARY:Kolędowanie w TVP Lublin - Miłego Popołudnia
DESCRIPTION:Serdecznie Państwa zapraszamy do oglądania programu „Miłego Popołudnia” w Telewizji Polskiej Lublin. Program emitowany będzie na żywo w godzinach 16:00-18:00. Zespół Muzyki Folklorystycznej zaprezentuje znane i lubiane pastorałki oraz kolędy.
URL:https://lubelacy.pl/wydarzenie/koledowanie-w-tvp-lublin-milego-popoludnia/
LOCATION:TVP3 Lublin
END:VEVENT
END:VCALENDAR