BEGIN:VCALENDAR
VERSION:2.0
PRODID:-//Zespół Muzyki Folklorystycznej „Lubelacy” - ECPv6.15.20//NONSGML v1.0//EN
CALSCALE:GREGORIAN
METHOD:PUBLISH
X-ORIGINAL-URL:https://lubelacy.pl
X-WR-CALDESC:Wydarzenia dla Zespół Muzyki Folklorystycznej „Lubelacy”
REFRESH-INTERVAL;VALUE=DURATION:PT1H
X-Robots-Tag:noindex
X-PUBLISHED-TTL:PT1H
BEGIN:VTIMEZONE
TZID:Europe/Warsaw
BEGIN:DAYLIGHT
TZOFFSETFROM:+0100
TZOFFSETTO:+0200
TZNAME:CEST
DTSTART:20250330T010000
END:DAYLIGHT
BEGIN:STANDARD
TZOFFSETFROM:+0200
TZOFFSETTO:+0100
TZNAME:CET
DTSTART:20251026T010000
END:STANDARD
BEGIN:DAYLIGHT
TZOFFSETFROM:+0100
TZOFFSETTO:+0200
TZNAME:CEST
DTSTART:20260329T010000
END:DAYLIGHT
BEGIN:STANDARD
TZOFFSETFROM:+0200
TZOFFSETTO:+0100
TZNAME:CET
DTSTART:20261025T010000
END:STANDARD
BEGIN:DAYLIGHT
TZOFFSETFROM:+0100
TZOFFSETTO:+0200
TZNAME:CEST
DTSTART:20270328T010000
END:DAYLIGHT
BEGIN:STANDARD
TZOFFSETFROM:+0200
TZOFFSETTO:+0100
TZNAME:CET
DTSTART:20271031T010000
END:STANDARD
END:VTIMEZONE
BEGIN:VEVENT
DTSTART;TZID=Europe/Warsaw:20260527T150000
DTEND;TZID=Europe/Warsaw:20260527T170000
DTSTAMP:20260421T161058
CREATED:20260313T173935Z
LAST-MODIFIED:20260313T173935Z
UID:457-1779894000-1779901200@lubelacy.pl
SUMMARY:Piknik z Polskim Towarzystwem diagnostyki laboratoryjnej na Dzień Diagnosty dla pacjentów USZD
DESCRIPTION:Koncert dla pacjentów Uniwersyteckiego Szpitala Dziecięcego w Lublinie.
URL:https://lubelacy.pl/wydarzenie/piknik-z-polskim-towarzystwem-diagnostyki-laboratoryjnej-na-dzien-diagnosty-dla-pacjentow-uszd/
LOCATION:Uniwersytecki Szpital Dziecięcy w Lublinie\, Profesora Antoniego Gębali 6\, Lublin\, Poland
END:VEVENT
END:VCALENDAR