BEGIN:VCALENDAR
VERSION:2.0
PRODID:-//Zespół Muzyki Folklorystycznej „Lubelacy” - ECPv6.15.20//NONSGML v1.0//EN
CALSCALE:GREGORIAN
METHOD:PUBLISH
X-WR-CALNAME:Zespół Muzyki Folklorystycznej „Lubelacy”
X-ORIGINAL-URL:https://lubelacy.pl
X-WR-CALDESC:Wydarzenia dla Zespół Muzyki Folklorystycznej „Lubelacy”
REFRESH-INTERVAL;VALUE=DURATION:PT1H
X-Robots-Tag:noindex
X-PUBLISHED-TTL:PT1H
BEGIN:VTIMEZONE
TZID:Europe/Warsaw
BEGIN:DAYLIGHT
TZOFFSETFROM:+0100
TZOFFSETTO:+0200
TZNAME:CEST
DTSTART:20250330T010000
END:DAYLIGHT
BEGIN:STANDARD
TZOFFSETFROM:+0200
TZOFFSETTO:+0100
TZNAME:CET
DTSTART:20251026T010000
END:STANDARD
BEGIN:DAYLIGHT
TZOFFSETFROM:+0100
TZOFFSETTO:+0200
TZNAME:CEST
DTSTART:20260329T010000
END:DAYLIGHT
BEGIN:STANDARD
TZOFFSETFROM:+0200
TZOFFSETTO:+0100
TZNAME:CET
DTSTART:20261025T010000
END:STANDARD
BEGIN:DAYLIGHT
TZOFFSETFROM:+0100
TZOFFSETTO:+0200
TZNAME:CEST
DTSTART:20270328T010000
END:DAYLIGHT
BEGIN:STANDARD
TZOFFSETFROM:+0200
TZOFFSETTO:+0100
TZNAME:CET
DTSTART:20271031T010000
END:STANDARD
END:VTIMEZONE
BEGIN:VEVENT
DTSTART;TZID=Europe/Warsaw:20260606T200000
DTEND;TZID=Europe/Warsaw:20260606T210000
DTSTAMP:20260421T184443
CREATED:20260313T173440Z
LAST-MODIFIED:20260313T173440Z
UID:455-1780776000-1780779600@lubelacy.pl
SUMMARY:Noc Kultury
DESCRIPTION:Już wkrótce więcej informacji…
URL:https://lubelacy.pl/wydarzenie/noc-kultury/
LOCATION:Lublin
END:VEVENT
END:VCALENDAR