BEGIN:VCALENDAR
VERSION:2.0
PRODID:-//Zespół Muzyki Folklorystycznej „Lubelacy” - ECPv6.15.20//NONSGML v1.0//EN
CALSCALE:GREGORIAN
METHOD:PUBLISH
X-WR-CALNAME:Zespół Muzyki Folklorystycznej „Lubelacy”
X-ORIGINAL-URL:https://lubelacy.pl
X-WR-CALDESC:Wydarzenia dla Zespół Muzyki Folklorystycznej „Lubelacy”
REFRESH-INTERVAL;VALUE=DURATION:PT1H
X-Robots-Tag:noindex
X-PUBLISHED-TTL:PT1H
BEGIN:VTIMEZONE
TZID:Europe/Warsaw
BEGIN:DAYLIGHT
TZOFFSETFROM:+0100
TZOFFSETTO:+0200
TZNAME:CEST
DTSTART:20240331T010000
END:DAYLIGHT
BEGIN:STANDARD
TZOFFSETFROM:+0200
TZOFFSETTO:+0100
TZNAME:CET
DTSTART:20241027T010000
END:STANDARD
BEGIN:DAYLIGHT
TZOFFSETFROM:+0100
TZOFFSETTO:+0200
TZNAME:CEST
DTSTART:20250330T010000
END:DAYLIGHT
BEGIN:STANDARD
TZOFFSETFROM:+0200
TZOFFSETTO:+0100
TZNAME:CET
DTSTART:20251026T010000
END:STANDARD
BEGIN:DAYLIGHT
TZOFFSETFROM:+0100
TZOFFSETTO:+0200
TZNAME:CEST
DTSTART:20260329T010000
END:DAYLIGHT
BEGIN:STANDARD
TZOFFSETFROM:+0200
TZOFFSETTO:+0100
TZNAME:CET
DTSTART:20261025T010000
END:STANDARD
BEGIN:DAYLIGHT
TZOFFSETFROM:+0100
TZOFFSETTO:+0200
TZNAME:CEST
DTSTART:20270328T010000
END:DAYLIGHT
BEGIN:STANDARD
TZOFFSETFROM:+0200
TZOFFSETTO:+0100
TZNAME:CET
DTSTART:20271031T010000
END:STANDARD
END:VTIMEZONE
BEGIN:VEVENT
DTSTART;TZID=Europe/Warsaw:20251106T170000
DTEND;TZID=Europe/Warsaw:20251106T190000
DTSTAMP:20260422T030552
CREATED:20251102T142332Z
LAST-MODIFIED:20251103T190515Z
UID:129-1762448400-1762455600@lubelacy.pl
SUMMARY:Próba
DESCRIPTION:Próba grupy młodzieżowej. Dla obecnych oraz nowych chętnych osób.
URL:https://lubelacy.pl/wydarzenie/proba/
LOCATION:Siedziba Zespołu\, Bronowicka 19\, Lublin\, Lublin\, 20-301\, Poland
CATEGORIES:Próby
END:VEVENT
BEGIN:VEVENT
DTSTART;TZID=Europe/Warsaw:20251218T160000
DTEND;TZID=Europe/Warsaw:20251218T180000
DTSTAMP:20260422T030552
CREATED:20251201T115709Z
LAST-MODIFIED:20251201T120444Z
UID:286-1766073600-1766080800@lubelacy.pl
SUMMARY:Kolędowanie w TVP Lublin - Miłego Popołudnia
DESCRIPTION:Serdecznie Państwa zapraszamy do oglądania programu „Miłego Popołudnia” w Telewizji Polskiej Lublin. Program emitowany będzie na żywo w godzinach 16:00-18:00. Zespół Muzyki Folklorystycznej zaprezentuje znane i lubiane pastorałki oraz kolędy.
URL:https://lubelacy.pl/wydarzenie/koledowanie-w-tvp-lublin-milego-popoludnia/
LOCATION:TVP3 Lublin
END:VEVENT
BEGIN:VEVENT
DTSTART;TZID=Europe/Warsaw:20251221T150000
DTEND;TZID=Europe/Warsaw:20251221T160000
DTSTAMP:20260422T030552
CREATED:20251203T115620Z
LAST-MODIFIED:20251203T115620Z
UID:296-1766329200-1766332800@lubelacy.pl
SUMMARY:Festiwal Bożego Narodzenia - kolędowanie w szopce
DESCRIPTION:Już 21 grudnia postaramy się wprowadzić Państwa w klimat Bożego Narodzenia. Koncert odbędzie się w Lubelskiej Szopce 21.09.2025 roku. Szopka Miejska w tym roku znajdować się będzie na Starym Mieście\, konkretniej na Planu po Farze. Oprócz Zespołu Muzyki Folklorystycznej „Lubelacy” Urząd Miasta Lublin proponuje także inne koncerty oraz atrakcje. Które dostępne są na stronie Urzędu Miasta Lublin tutaj. Tego dnia na mieście będzie również jarmark bożonarodzeniowy\, na który serdecznie zapraszamy.
URL:https://lubelacy.pl/wydarzenie/festiwal-bozego-narodzenia-koledowanie-w-szopce/
LOCATION:Plac po Farze\, Plac po Farze\, Lublin\, Lublin\, Poland
END:VEVENT
BEGIN:VEVENT
DTSTART;TZID=Europe/Warsaw:20251228T122000
DTEND;TZID=Europe/Warsaw:20251228T130000
DTSTAMP:20260422T030552
CREATED:20251204T090920Z
LAST-MODIFIED:20251204T090920Z
UID:300-1766924400-1766926800@lubelacy.pl
SUMMARY:Koncert kolęd - Chłaniów
DESCRIPTION:Serdecznie zapraszamy Państwa na koncert kolęd. Który odbędzie się po Mszy Świętej o godzinie 11:30 w kościele parafialnym w Chłaniowie pw. Św. Mateusza. Sam koncert rozpocznie się prawdopodobnie około godziny 12:20. Wstęp wolny.
URL:https://lubelacy.pl/wydarzenie/koncert-koled-chlaniow/
LOCATION:kościół pw. Św. Mateusza w Chłaniowie\, Chałniów 91\, Chłaniów\, powiat krasnostawski\, gmina Żółkiewka\, 22-335\, Poland
END:VEVENT
BEGIN:VEVENT
DTSTART;TZID=Europe/Warsaw:20251229T140000
DTEND;TZID=Europe/Warsaw:20251229T150000
DTSTAMP:20260422T030552
CREATED:20251202T125446Z
LAST-MODIFIED:20251202T125446Z
UID:294-1767016800-1767020400@lubelacy.pl
SUMMARY:Koncert kolęd - DPS Kiełczewice
DESCRIPTION:Zamknięty koncert dla podopiecznych Domu Pomocy Społecznej w Kiełczewicach Maryjskich.
URL:https://lubelacy.pl/wydarzenie/koncert-koled-dps-kielczewice/
LOCATION:Lublin
END:VEVENT
BEGIN:VEVENT
DTSTART;TZID=Europe/Warsaw:20260111T184500
DTEND;TZID=Europe/Warsaw:20260111T184500
DTSTAMP:20260422T030552
CREATED:20251215T124355Z
LAST-MODIFIED:20251215T124950Z
UID:304-1768157100-1768157100@lubelacy.pl
SUMMARY:Świąteczny koncert kolęd i pastorałek
DESCRIPTION:Serdecznie zapraszamy na koncert kolęd i pastorałek\, który odbędzie się w 11.01.2025 r. w kościele pw. Św. Mikołaja w Lublinie ok. godzimy 18:45 tj. Podczas koncertu zaprezentowane zostaną znane polskie kolędy\, a także pastorałki. Podczas koncertu zachęcamy do wspólnego śpiewania kolęd.
URL:https://lubelacy.pl/wydarzenie/swiateczny-koncert-koled-i-pastoralek/
LOCATION:kościół pw. Św. Mikołaja\, ks. Michała Słowikowskiego 1\, 20-124\, Lublin\, lubelskie\, 20-124\, Poland
END:VEVENT
BEGIN:VEVENT
DTSTART;TZID=Europe/Warsaw:20260328T120000
DTEND;TZID=Europe/Warsaw:20260328T140000
DTSTAMP:20260422T030552
CREATED:20260313T173304Z
LAST-MODIFIED:20260313T173304Z
UID:450-1774699200-1774706400@lubelacy.pl
SUMMARY:Wielkanocne Spotkanie Seniorów
DESCRIPTION:Koncert zamknięty.
URL:https://lubelacy.pl/wydarzenie/wielkanocne-spotkanie-seniorow/
LOCATION:Arche Hotel\, Zamojska 30\, Lublin\, Poland
END:VEVENT
BEGIN:VEVENT
DTSTART;TZID=Europe/Warsaw:20260328T150000
DTEND;TZID=Europe/Warsaw:20260328T170000
DTSTAMP:20260422T030552
CREATED:20260313T172334Z
LAST-MODIFIED:20260313T172537Z
UID:442-1774710000-1774717200@lubelacy.pl
SUMMARY:Finał VII Wojewódzkiego Konkursu na palmę i pisankę wielkanocną
DESCRIPTION:Serdecznie zapraszamy na Finał VII Wojewódzkiego Konkursu na palmę i pisankę wielkanocną organizowane w Muzeum Wsi Lubelskiej w Lublinie.
URL:https://lubelacy.pl/wydarzenie/final-vii-wojewodzkiego-konkursu-na-palme-i-pisanke-wielkanocna/
LOCATION:Muzeum Wsi Lubelskiej w Lublinie\, al. Warszawskie 96\, Lublin
ATTACH;FMTTYPE=image/jpeg:https://lubelacy.pl/wp-content/uploads/2026/03/IMG_3677.jpeg
END:VEVENT
BEGIN:VEVENT
DTSTART;TZID=Europe/Warsaw:20260527T150000
DTEND;TZID=Europe/Warsaw:20260527T170000
DTSTAMP:20260422T030552
CREATED:20260313T173935Z
LAST-MODIFIED:20260313T173935Z
UID:457-1779894000-1779901200@lubelacy.pl
SUMMARY:Piknik z Polskim Towarzystwem diagnostyki laboratoryjnej na Dzień Diagnosty dla pacjentów USZD
DESCRIPTION:Koncert dla pacjentów Uniwersyteckiego Szpitala Dziecięcego w Lublinie.
URL:https://lubelacy.pl/wydarzenie/piknik-z-polskim-towarzystwem-diagnostyki-laboratoryjnej-na-dzien-diagnosty-dla-pacjentow-uszd/
LOCATION:Uniwersytecki Szpital Dziecięcy w Lublinie\, Profesora Antoniego Gębali 6\, Lublin\, Poland
END:VEVENT
BEGIN:VEVENT
DTSTART;TZID=Europe/Warsaw:20260606T200000
DTEND;TZID=Europe/Warsaw:20260606T210000
DTSTAMP:20260422T030552
CREATED:20260313T173440Z
LAST-MODIFIED:20260313T173440Z
UID:455-1780776000-1780779600@lubelacy.pl
SUMMARY:Noc Kultury
DESCRIPTION:Już wkrótce więcej informacji…
URL:https://lubelacy.pl/wydarzenie/noc-kultury/
LOCATION:Lublin
END:VEVENT
BEGIN:VEVENT
DTSTART;TZID=Europe/Warsaw:20260611T190000
DTEND;TZID=Europe/Warsaw:20260611T200000
DTSTAMP:20260422T030552
CREATED:20260327T135230Z
LAST-MODIFIED:20260327T135230Z
UID:690-1781204400-1781208000@lubelacy.pl
SUMMARY:Dzień seniora
DESCRIPTION:Zapraszamy serdecznie na koncert dla seniorów 11 czerwca o godzinie 19:00 w Amfiteatrze przy kościele „na Poczekajce” czyli przy kościele pw. Niepokalanego Serca Maryi i św. Franciszka z Asyżu w Lublinie.
URL:https://lubelacy.pl/wydarzenie/dzien-seniora/
LOCATION:kościół pw. Niepokalanego Serca Maryi i św. Franciszka z Asyżu w Lublinie\, al. Kraśnicka 76\, Lublin\, Lublin\, 20-718\, Poland
END:VEVENT
BEGIN:VEVENT
DTSTART;TZID=Europe/Warsaw:20260621T190000
DTEND;TZID=Europe/Warsaw:20260621T220000
DTSTAMP:20260422T030552
CREATED:20260327T135600Z
LAST-MODIFIED:20260327T145920Z
UID:694-1782068400-1782079200@lubelacy.pl
SUMMARY:Folk Without Borders - międzynarodowa potańcówka
DESCRIPTION:Folk Without Borders – International Folk Dance Night in Lublin \n21 czerwca na Starym Mieście w Lublinie odbędzie się wyjątkowe wydarzenie łączące ludzi\, kultury i tradycje – międzynarodowa potańcówka „Folk Without Borders”. \nTo inicjatywa Zespołu Muzyki Folklorystycznej „Lubelacy”\, której celem jest stworzenie przestrzeni spotkania mieszkańców Lublina oraz osób z różnych stron świata poprzez muzykę\, taniec i wspólne doświadczenie kultury. \nW programie wydarzenia znajdzie się:\n– potańcówka z muzyką ludową na żywo prowadzona przez zespół Lubelacy\,\n– nauka prostych tańców z Lubelszczyzny\,\n– wspólne śpiewanie tradycyjnych pieśni\,\n– część międzynarodowa\, podczas której osoby i zespoły z różnych krajów zaprezentują swoją muzykę\, śpiew i taniec. \nKażda z zaproszonych grup będzie miała możliwość krótkiej prezentacji swojej kultury\, tworząc wspólnie z uczestnikami wydarzenia żywą i otwartą przestrzeń integracji. \nDodatkowo\, przed rozpoczęciem potańcówki planowane są warsztaty inspirowane tradycją regionu\, m.in. warsztaty haftu krzczonowskiego prowadzone przez członków zespołu. \nWydarzenie ma charakter otwarty i skierowane jest zarówno do mieszkańców Lublina\, jak i studentów oraz osób z zagranicy mieszkających w mieście. Nie jest to klasyczny koncert – to wspólna zabawa\, w której każdy może wziąć udział niezależnie od doświadczenia czy znajomości języka. \n„Folk Without Borders” to spotkanie kultur bez barier – poprzez rytm\, ruch i wspólne przeżywanie tradycji. \nData: 21 czerwca 19:00\nMiejsce: Stare Miasto w Lublinie (plac przy Liceum Staromiejskim) \nZapraszamy wszystkich do wspólnej zabawy!
URL:https://lubelacy.pl/wydarzenie/folk-without-borders-miedzynarodowa-potancowka/
LOCATION:Liceum Staromiejskie\, Złota 7\, Lublin\, Lublin\, Poland
END:VEVENT
END:VCALENDAR